BEGIN:VCALENDAR
PRODID:-//kirchenweb.ch gmbh//veranstaltungsausgabe v2.0//DE
VERSION:2.0
METHOD:PUBLISH
BEGIN:VEVENT
DTSTART:20260521T133000Z
DTEND:20260521T153000Z
LOCATION:Büchsenschmitte\, Schulhausstrasse 40\, 8704 Herrliberg
TRANSP:OPAQUE
SEQUENCE:0
UID:146-veranstaltung@kath-herrliberg.ch
DTSTAMP:20251129T214017Z
DESCRIPTION:Anlaufstelle für Trauernde\nbericht/7\n\nKontakt:
  rafal.rybicki@kath-herrliberg.ch\n\nWeitere Infos:
  https://www.kath-herrliberg.ch/veranstaltung/146
SUMMARY:Trauercafé
PRIORITY:5
X-MICROSOFT-CDO-IMPORTANCE:1
CLASS:PUBLIC
END:VEVENT
END:VCALENDAR
