BEGIN:VCALENDAR
PRODID:-//kirchenweb.ch gmbh//veranstaltungsausgabe v2.0//DE
VERSION:2.0
METHOD:PUBLISH
BEGIN:VEVENT
DTSTART:20260621T093000Z
DTEND:20260621T103000Z
LOCATION:Pfarreisaal\, \,
TRANSP:OPAQUE
SEQUENCE:0
UID:184-veranstaltung@kath-herrliberg.ch
DTSTAMP:20260126T214701Z
DESCRIPTION:Kontakt: rafal.rybicki@kath-herrliberg.ch\n\nWeitere Infos:
  https://www.kath-herrliberg.ch/veranstaltung/184
SUMMARY:Kirchgemeindeversammlung
PRIORITY:5
X-MICROSOFT-CDO-IMPORTANCE:1
CLASS:PUBLIC
END:VEVENT
END:VCALENDAR
