BEGIN:VCALENDAR
PRODID:-//kirchenweb.ch gmbh//veranstaltungsausgabe v2.0//DE
VERSION:2.0
METHOD:PUBLISH
BEGIN:VEVENT
DTSTART:20260426T083000Z
DTEND:20260426T093000Z
LOCATION:St. Marien\, \,
TRANSP:OPAQUE
SEQUENCE:0
UID:193-veranstaltung@kath-herrliberg.ch
DTSTAMP:20260227T102525Z
DESCRIPTION:Kontakt: sibylla.buehler@kath-herrliberg.ch\n\nWeitere Infos:
  https://www.kath-herrliberg.ch/veranstaltung/193
SUMMARY:Eucharistiefeier mit Claretiner-Pater
PRIORITY:5
X-MICROSOFT-CDO-IMPORTANCE:1
CLASS:PUBLIC
END:VEVENT
END:VCALENDAR
