BEGIN:VCALENDAR
PRODID:-//kirchenweb.ch gmbh//veranstaltungsausgabe v2.0//DE
VERSION:2.0
METHOD:PUBLISH
BEGIN:VEVENT
DTSTART:20260512T073000Z
DTEND:20260512T083000Z
LOCATION:St. Marien\, \,
TRANSP:OPAQUE
SEQUENCE:0
UID:203-veranstaltung@kath-herrliberg.ch
DTSTAMP:20260313T103410Z
DESCRIPTION:Kontakt: sibylla.buehler@kath-herrliberg.ch\n\nWeitere Infos:
  https://www.kath-herrliberg.ch/veranstaltung/203
SUMMARY:Keine Eucharistiefeier\, nur Rosenkranzgebet
PRIORITY:5
X-MICROSOFT-CDO-IMPORTANCE:1
CLASS:PUBLIC
END:VEVENT
END:VCALENDAR
