BEGIN:VCALENDAR
PRODID:-//kirchenweb.ch gmbh//veranstaltungsausgabe v2.0//DE
VERSION:2.0
METHOD:PUBLISH
BEGIN:VEVENT
DTSTART:20260514T083000Z
DTEND:20260514T180000Z
LOCATION:St. Marien\, \,
TRANSP:OPAQUE
SEQUENCE:0
UID:207-veranstaltung@kath-herrliberg.ch
DTSTAMP:20260408T104600Z
DESCRIPTION:Kontakt: sibylla.buehler@kath-herrliberg.ch\n\nWeitere Infos:
  https://www.kath-herrliberg.ch/veranstaltung/207
SUMMARY:Auffahrtsgottesdienst mit Pfr. A. Keller; Musik: Eric Meier\,
  Flügel und Jörg Frei\,Panflöte
PRIORITY:5
X-MICROSOFT-CDO-IMPORTANCE:1
CLASS:PUBLIC
END:VEVENT
END:VCALENDAR
