BEGIN:VCALENDAR
PRODID:-//kirchenweb.ch gmbh//veranstaltungsausgabe v2.0//DE
VERSION:2.0
METHOD:PUBLISH
BEGIN:VEVENT
DTSTART:20260516T143000Z
DTEND:20260516T153000Z
LOCATION:Senevita\, Herrliberg\, \,
TRANSP:OPAQUE
SEQUENCE:0
UID:208-veranstaltung@kath-herrliberg.ch
DTSTAMP:20260420T101330Z
DESCRIPTION:Kontakt: sibylla.buehler@kath-herrliberg.ch\n\nWeitere Infos:
  https://www.kath-herrliberg.ch/veranstaltung/208
SUMMARY:Ökumenischer Gottesdienst mit Pfr. A. Keller
PRIORITY:5
X-MICROSOFT-CDO-IMPORTANCE:1
CLASS:PUBLIC
END:VEVENT
END:VCALENDAR
