BEGIN:VCALENDAR
PRODID:-//kirchenweb.ch gmbh//veranstaltungsausgabe v2.0//DE
VERSION:2.0
METHOD:PUBLISH
BEGIN:VEVENT
DTSTART:20260606T143000Z
DTEND:20260606T153000Z
LOCATION:Senevita\, Herrliberg\, \,
TRANSP:OPAQUE
SEQUENCE:0
UID:219-veranstaltung@kath-herrliberg.ch
DTSTAMP:20260417T073837Z
DESCRIPTION:Kontakt: sibylla.buehler@kath-herrliberg.ch\n\nWeitere Infos:
  https://www.kath-herrliberg.ch/veranstaltung/219
SUMMARY:Ökumenischer Gottesdienst mit W. Arnold
PRIORITY:5
X-MICROSOFT-CDO-IMPORTANCE:1
CLASS:PUBLIC
END:VEVENT
END:VCALENDAR
